BEGIN:VCALENDAR
VERSION:2.0
PRODID:-//hacksw/handcal//NONSGML v1.0//EN
BEGIN:VEVENT
X-WR-TIMEZONE:Europe/Paris
UID:f677344124aca3078500535
DTSTART:20260606T10:0000
DTEND:20260606T16:0000
SUMMARY:Coeurs de roses en marche : Une marche et course solidaire
LOCATION:Parc Corbière - Le Pecq
DESCRIPTION:https://gebs.fr/evenement_detail_ext.php?id_c_evenement=969
END:VEVENT
END:VCALENDAR
